BEGIN:VCALENDAR
VERSION:2.0
PRODID:Events Booking
BEGIN:VEVENT
UID:69e8fc62e7225
SUMMARY:13th International Workshop on Waldenström’s Macroglobulinemia
DESCRIPTION:The 13th International Workshop on Waldenstrom’s Macroglobul
 inemia (IWWM-13) will be held from October 14–16\, 2026\, in Palm Spri
 ngs\, California\, USA\, at the Renaissance Palm Springs Hotel &amp\; Con
 ference Center\, a premier venue located in the heart of downtown Palm Spr
 ings. Surrounded by the scenic San Jacinto Mountains\, the area offers ric
 h cultural experiences with historic landmarks\, museums\, gardens\, and e
 xceptional dining.
 The Welcome Reception will take place on Tuesday\,
  October 13\, at the Renaissance Palm Springs Hotel. Opening Ceremonies 
 will be hosted on Wednesday\, October 14\, at the inspiring Palm Springs 
 Art Museum\, while the Closing Ceremonies will be held on Friday\, Octob
 er 16\, at the Westin Rancho Mirage. These venues provide a unique backdr
 op celebrating mid-century modern architecture\, history\, and culture\, a
 nd will also host the Jan Gosta Waldenstrom\, Robert A. Kyle\, and Peter 
 S. Bing Humanitarian Awards. The workshop will be co-chaired by Dr. Ranja
 na Advani (Stanford Medicine)\, Dr. Prashant Kapoor (Mayo Clinic)\, and Dr
 . Stephen Ansell (Mayo Clinic).
 On Thursday\, October 15\, IWWM-13 will
  continue its commitment to advancing WM research through the Junior Inve
 stigator Poster Presentation and Young Investigator Awards. The top eight 
 abstracts will be featured in a dedicated plenary session. Thanks to the g
 enerosity of the International Waldenstrom’s Macroglobulinemia Foundati
 on (IWMF)\, the top 20 Young Investigator Award recipients will receive c
 overage for registration\, travel\, and lodging. Abstract submissions open
  March 2\, 2026\, and close July 17\, 2026.
LOCATION:Tahquitz Canyon Way\, Palm Springs\, 92262 California\, United Sta
 tes
DTSTART:20261014T120000Z
DTEND:20261016T150000Z
DTSTAMP:20260422T165042Z
ORGANIZER;CN=Chris Patterson:MAILTO:cpatterson1@partners.org
GEO:33.824628;-116.539143
X-APPLE-STRUCTURED-LOCATION;VALUE=URI;X-ADDRESS=Tahquitz Canyon Way\, Palm 
 Springs\, 92262 California\, United States;X-APPLE-RADIUS=72;X-TITLE=Renai
 ssance Palm Springs Hotel:33.824628;-116.539143
END:VEVENT
END:VCALENDAR